BEGIN:VCALENDAR
VERSION:2.0
PRODID:-//Celine Berneron - ECPv5.10.0//NONSGML v1.0//EN
CALSCALE:GREGORIAN
METHOD:PUBLISH
X-WR-CALNAME:Celine Berneron
X-ORIGINAL-URL:http://www.celineberneron-220vols.fr
X-WR-CALDESC:évènements pour Celine Berneron
BEGIN:VTIMEZONE
TZID:Europe/Paris
BEGIN:DAYLIGHT
TZOFFSETFROM:+0100
TZOFFSETTO:+0200
TZNAME:CEST
DTSTART:20170326T010000
END:DAYLIGHT
BEGIN:STANDARD
TZOFFSETFROM:+0200
TZOFFSETTO:+0100
TZNAME:CET
DTSTART:20171029T010000
END:STANDARD
END:VTIMEZONE
BEGIN:VEVENT
DTSTART;TZID=Europe/Paris:20171111T080000
DTEND;TZID=Europe/Paris:20171113T170000
DTSTAMP:20260422T160217
CREATED:20170921T104327Z
LAST-MODIFIED:20170921T104327Z
UID:354-1510387200-1510592400@www.celineberneron-220vols.fr
SUMMARY:Résidence "quelqu un va venir" @ théâtre de l Arsenal /Val de Reuil (27)
DESCRIPTION:
URL:http://www.celineberneron-220vols.fr/evenements/residence-quelqu-un-va-venir-theatre-de-l-arsenal-val-de-reuil-27/
END:VEVENT
END:VCALENDAR